BEGIN:VCALENDAR
VERSION:2.0
PRODID:-//hacksw/handcal//NONSGML v1.0//EN
CALSCALE:GREGORIAN
BEGIN:VTIMEZONE
TZID:America/Los_Angeles
BEGIN:DAYLIGHT
TZOFFSETFROM:-0600
TZNAME:MDT
TZOFFSETTO:-0600
END:DAYLIGHT
END:VTIMEZONE
DTSTAMP:20260423T014105Z
UID:69e9db211fbab
BEGIN:VEVENT
DESCRIPTION:<p><strong>Are you a kid who loves reading comics? Then come join us as we explore a different middle grade graphic novel each month.&nbsp;Pizza will be provided!&nbsp;For students in grades 5th - 8th. Books will be provided. Students will get to choose the next book.&nbsp;Meets once a month.&nbsp;&nbsp;</strong></p>

<p><strong>MUST REGISTER&nbsp;IN ADVANCE.&nbsp;</strong></p>

<section aria-label="Organizer profile"></section>

DTSTART;TZID=America/Los_Angeles:20240911T150000
DTEND;TZID=America/Los_Angeles:20240911T160000
SUMMARY:Graphic Novel Book Club
URL;VALUE=URI:/graphic-novel-book-club-0
END:VEVENT
END:VCALENDAR